BEGIN:VCALENDAR
VERSION:2.0
METHOD:PUBLISH
BEGIN:VEVENT
DTSTART:20260507T100000Z
DTEND:20260507T130000Z
LOCATION:Protruck
TRANSP: OPAQUE
SEQUENCE:0
UID:
DTSTAMP:20260423T092649Z
SUMMARY:Trailers Auction
DESCRIPTION:
PRIORITY:1
CLASS:PUBLIC
URL:https://www.fleetauctiongroup.com/auction/601
END:VEVENT
END:VCALENDAR